{
 "currentVersion": 10.9,
 "serviceDescription": "Multispectral Landsat 8 OLI Image Service covering the landmass of the World. This service includes 8-band multispectral scenes, at 30 meter resolution. It can be used for mapping and change detection of agriculture, soils, vegetation health, water-land features and boundary studies. Using on-the-fly processing, the raw DN values are transformed to scaled (0 - 10000) apparent reflectance values and then different service based renderings for band combinations and indices are applied. The service is updated on a daily basis to include the latest best scenes from the USGS.",
 "name": "Landsat8_Views",
 "description": "Multispectral Landsat 8 OLI Image Service covering the landmass of the World. This service includes 8-band multispectral scenes, at 30 meter resolution. It can be used for mapping and change detection of agriculture, soils, vegetation health, water-land features and boundary studies. Using on-the-fly processing, the raw DN values are transformed to scaled (0 - 10000) apparent reflectance values and then different service based renderings for band combinations and indices are applied. The service is updated on a daily basis to include the latest best scenes from the USGS.",
 "extent": {
  "xmin": -2.00375070672E7,
  "ymin": -1.0635975075400002E7,
  "xmax": 2.0037507842788246E7,
  "ymax": 1.3999994924599998E7,
  "spatialReference": {
   "wkid": 102100,
   "latestWkid": 3857
  }
 },
 "initialExtent": {
  "xmin": -2.00375070672E7,
  "ymin": -1.0635975075400002E7,
  "xmax": 2.0037507842788246E7,
  "ymax": 1.3999994924599998E7,
  "spatialReference": {
   "wkid": 102100,
   "latestWkid": 3857
  }
 },
 "fullExtent": {
  "xmin": -2.00375070672E7,
  "ymin": -1.0635975075400002E7,
  "xmax": 2.0037507842788246E7,
  "ymax": 1.3999994924599998E7,
  "spatialReference": {
   "wkid": 102100,
   "latestWkid": 3857
  }
 },
 "hasMultidimensions": false,
 "timeInfo": {
  "startTimeField": "AcquisitionDate",
  "endTimeField": "AcquisitionDate",
  "timeExtent": [
   157766400000,
   1751319985000
  ],
  "timeReference": null
 },
 "pixelSizeX": 29.99999618963752,
 "pixelSizeY": 30,
 "datasetFormat": "AMD",
 "uncompressedSize": 24133681989252,
 "blockWidth": 2048,
 "blockHeight": 256,
 "compressionType": "None",
 "bandNames": [
  "CoastalAerosol",
  "Blue",
  "Green",
  "Red",
  "NearInfrared",
  "ShortWaveInfrared1",
  "ShortWaveInfrared2",
  "Cirrus",
  "QA",
  "ThermalInfrared1",
  "ThermalInfrared2"
 ],
 "allowCopy": false,
 "allowAnalysis": false,
 "bandCount": 11,
 "pixelType": "S16",
 "minPixelSize": 0,
 "maxPixelSize": 0,
 "copyrightText": "",
 "serviceDataType": "esriImageServiceDataTypeGeneric",
 "serviceSourceType": "esriImageServiceSourceTypeMosaicDataset",
 "minValues": [],
 "maxValues": [],
 "meanValues": [],
 "stdvValues": [],
 "objectIdField": "OBJECTID",
 "fields": [
  {
   "name": "OBJECTID",
   "type": "esriFieldTypeOID",
   "alias": "OBJECTID",
   "domain": null
  },
  {
   "name": "Name",
   "type": "esriFieldTypeString",
   "alias": "Name",
   "domain": null,
   "length": 200
  },
  {
   "name": "MinPS",
   "type": "esriFieldTypeDouble",
   "alias": "MinPS",
   "domain": null
  },
  {
   "name": "MaxPS",
   "type": "esriFieldTypeDouble",
   "alias": "MaxPS",
   "domain": null
  },
  {
   "name": "LowPS",
   "type": "esriFieldTypeDouble",
   "alias": "LowPS",
   "domain": null
  },
  {
   "name": "HighPS",
   "type": "esriFieldTypeDouble",
   "alias": "HighPS",
   "domain": null
  },
  {
   "name": "Category",
   "type": "esriFieldTypeInteger",
   "alias": "Category",
   "domain": {
    "type": "codedValue",
    "name": "MosaicCatalogItemCategoryDomain",
    "description": "Catalog item categories.",
    "codedValues": [
     {
      "name": "Unknown",
      "code": 0
     },
     {
      "name": "Primary",
      "code": 1
     },
     {
      "name": "Overview",
      "code": 2
     },
     {
      "name": "Unprocessed Overview",
      "code": 3
     },
     {
      "name": "Partial Overview",
      "code": 4
     },
     {
      "name": "Inactive",
      "code": 5
     },
     {
      "name": "Uploaded",
      "code": 253
     },
     {
      "name": "Incomplete",
      "code": 254
     },
     {
      "name": "Custom",
      "code": 255
     }
    ],
    "mergePolicy": "esriMPTDefaultValue",
    "splitPolicy": "esriSPTDefaultValue"
   }
  },
  {
   "name": "ProductName",
   "type": "esriFieldTypeString",
   "alias": "ProductName",
   "domain": null,
   "length": 100
  },
  {
   "name": "Shape",
   "type": "esriFieldTypeGeometry",
   "alias": "Shape",
   "domain": null
  },
  {
   "name": "SensorName",
   "type": "esriFieldTypeString",
   "alias": "Sensor Name",
   "domain": null,
   "length": 20
  },
  {
   "name": "AcquisitionDate",
   "type": "esriFieldTypeDate",
   "alias": "Acquisition Date",
   "domain": null,
   "length": 8
  },
  {
   "name": "SunAzimuth",
   "type": "esriFieldTypeDouble",
   "alias": "Sun Azimuth",
   "domain": null
  },
  {
   "name": "SunElevation",
   "type": "esriFieldTypeDouble",
   "alias": "Sun Elevation",
   "domain": null
  },
  {
   "name": "CloudCover",
   "type": "esriFieldTypeDouble",
   "alias": "Cloud Cover",
   "domain": null
  },
  {
   "name": "Best",
   "type": "esriFieldTypeInteger",
   "alias": "Best",
   "domain": null
  },
  {
   "name": "PR",
   "type": "esriFieldTypeInteger",
   "alias": "PR",
   "domain": null
  },
  {
   "name": "Latest",
   "type": "esriFieldTypeInteger",
   "alias": "Latest",
   "domain": null
  },
  {
   "name": "DayOfYear",
   "type": "esriFieldTypeInteger",
   "alias": "DayOfYear",
   "domain": null
  },
  {
   "name": "Month",
   "type": "esriFieldTypeSmallInteger",
   "alias": "Month",
   "domain": null
  },
  {
   "name": "dataset_id",
   "type": "esriFieldTypeString",
   "alias": "dataset_id",
   "domain": null,
   "length": 50
  },
  {
   "name": "WRS_Path",
   "type": "esriFieldTypeInteger",
   "alias": "WRS_Path",
   "domain": null
  },
  {
   "name": "WRS_Row",
   "type": "esriFieldTypeInteger",
   "alias": "WRS_Row",
   "domain": null
  }
 ],
 "capabilities": "Image,Metadata,Catalog,Mensuration",
 "defaultMosaicMethod": "ByAttribute",
 "allowedMosaicMethods": "ByAttribute,Center,NorthWest,Nadir,LockRaster,None",
 "sortField": "Best",
 "sortValue": "0",
 "sortAscending": true,
 "mosaicOperator": "First",
 "maxDownloadSizeLimit": 2048,
 "defaultCompressionQuality": 85,
 "defaultResamplingMethod": "Bilinear",
 "maxImageHeight": 5000,
 "maxImageWidth": 5000,
 "maxRecordCount": 1000,
 "maxDownloadImageCount": 20,
 "maxMosaicImageCount": 20,
 "allowRasterFunction": true,
 "rasterFunctionInfos": [
  {
   "name": "Agriculture with DRA",
   "description": "Bands shortwave IR-1, near-IR, blue (6, 5, 2) with dynamic range adjustment applied on apparent reflectance. Vigorous veg. is bright green, stressed veg. dull green and bare areas as brown.",
   "help": ""
  },
  {
   "name": "Bathymetric with DRA",
   "description": "Bands red, green, coastal/aerosol (4, 3, 1) with dynamic range adjustment applied on apparent reflectance. Useful in bathymetric mapping applications.",
   "help": ""
  },
  {
   "name": "Color Infrared with DRA",
   "description": "Bands near-IR, red, green (5, 4, 3) with dynamic range adjustment applied on apparent reflectance. Healthy vegetation is bright red while stressed vegetation is dull red.",
   "help": ""
  },
  {
   "name": "Geology with DRA",
   "description": "The band combination (7,6,2) enables easier visualization and extraction of delineation of major structural features like thrust faults and folds, textural characteristics of igneous and sedimentary rocks, and for lithological and geological mapping like recognizing hydrothermal altered rocks, etc. Additionally, various band combinations like 4,3,2 ; 7,6,5; 7,5,2; 7,4,2 etc. can also be used to determine specific geological features.",
   "help": ""
  },
  {
   "name": "Natural Color with DRA",
   "description": "Natural Color bands red, green, blue (4, 3, 2) displayed with dynamic range adjustment applied on apparent reflectance.",
   "help": ""
  },
  {
   "name": "Short-wave Infrared with DRA",
   "description": "Bands shortwave IR-2, shortwave IR-1, red (7, 6, 4) with dynamic range adjustment applied on apparent reflectance.",
   "help": ""
  },
  {
   "name": "Agriculture",
   "description": "Bands shortwave IR-1, near-IR, blue (6, 5, 2) with fixed stretch applied on apparent reflectance. Vigorous vegetation is bright green, stressed vegetation dull green and bare areas as brown.",
   "help": ""
  },
  {
   "name": "Bathymetric",
   "description": "Bands red, green, coastal/aerosol (4, 3, 1) with fixed stretch applied on apparent reflectance. Useful in bathymetric mapping applications.",
   "help": ""
  },
  {
   "name": "Color Infrared",
   "description": "Bands near-IR, red, green (5, 4, 3) with fixed stretch applied on apparent reflectance. Healthy vegetation is bright red while stressed vegetation is dull red.",
   "help": ""
  },
  {
   "name": "Geology",
   "description": "The band combination (7,6,2) enables easier visualization and extraction of delineation of major structural features like thrust faults and folds, textural characteristics of igneous and sedimentary rocks, and for lithological and geological mapping like recognizing hydrothermal altered rocks, etc. Additionally, various band combinations like 4,3,2 ; 7,6,5; 7,5,2; 7,4,2 etc. can also be used to determine specific geological features.",
   "help": ""
  },
  {
   "name": "Natural Color",
   "description": "Natural Color bands red, green, blue(4, 3, 2) displayed with fixed stretch applied on apparent reflectance.",
   "help": ""
  },
  {
   "name": "Short-wave Infrared",
   "description": "Bands shortwave infrared2, shortwave infrared1, red (7, 6, 4) with fixed stretched applied on apparent reflectance.",
   "help": ""
  },
  {
   "name": "NDVI Colorized",
   "description": "Normalized difference vegetation index (NDVI) with color map. Dark green is thick vigorous vegetation and brown represents sparse vegetation.",
   "help": ""
  },
  {
   "name": "Normalized Difference Moisture Index Colorized",
   "description": "Normalized Difference Moisture Index with color map computed as (b5 - b6) / (b5 + b6). Wetlands and moist areas are blues, and dry areas in deep yellow and brown.",
   "help": ""
  },
  {
   "name": "NDVI Raw",
   "description": "Normalized difference vegetation index (NDVI) computed as (b5 - b4) / (b5 + b4) on apparent reflectance.",
   "help": ""
  },
  {
   "name": "NBR Raw",
   "description": "Normalized Burn Ratio (NBR) computed as (b5 - b7) / (b5 + b7) on apparent reflectance.",
   "help": ""
  },
  {
   "name": "Band 10 Surface Temperature in Fahrenheit",
   "description": " Land surface temperature estimation (°F) dynamically derived from TIRS1.",
   "help": ""
  },
  {
   "name": "Band 11 Surface Temperature in Fahrenheit",
   "description": " Land surface temperature estimation (°F) dynamically derived from TIRS2.",
   "help": ""
  },
  {
   "name": "Band 10 Surface Temperature in Celsius",
   "description": "Land surface temperature estimation (°C) dynamically derived from TIRS1.",
   "help": ""
  },
  {
   "name": "Band 11 Surface Temperature in Celsius",
   "description": "Land surface temperature estimation (°C) dynamically derived from TIRS2.",
   "help": ""
  },
  {
   "name": "None",
   "description": "",
   "help": ""
  }
 ],
 "rasterTypeInfos": [
  {
   "name": "Raster Dataset",
   "description": "Supports all ArcGIS Raster Datasets",
   "help": ""
  }
 ],
 "mensurationCapabilities": "Basic",
 "hasHistograms": false,
 "hasColormap": false,
 "hasRasterAttributeTable": false,
 "minScale": 0,
 "maxScale": 0,
 "exportTilesAllowed": false,
 "supportsStatistics": true,
 "supportsAdvancedQueries": true,
 "editFieldsInfo": null,
 "ownershipBasedAccessControlForRasters": null,
 "allowComputeTiePoints": false,
 "useStandardizedQueries": true,
 "advancedQueryCapabilities": {
  "useStandardizedQueries": true,
  "supportsStatistics": true,
  "supportsOrderBy": true,
  "supportsDistinct": true,
  "supportsPagination": true
 },
 "spatialReference": {
  "wkid": 102100,
  "latestWkid": 3857
 }
}
