View In:
ArcGIS JavaScript
ArcGIS Online Map Viewer
ArcGIS Earth
Service Description: Multispectral Landsat GLS image service created from the Global Land Survey (GLS) data from epochs 1975, 1990, 2000, 2005 and 2010. GLS datasets are created by the United States Geological Survey (USGS) and the National Aeronautics and Space Administration (NASA), using Landsat images. This service includes imagery from Landsat 4, Landsat 5 TM and Landsat 7 ETM, at 30 meter resolution and Landsat MSS at 60 meter resolution. It can be used for mapping and change detection of agriculture, soils, vegetation health, water-land features and boundary studies. Using on-the-fly processing, the raw DN values are transformed to scaled (0 - 10000) apparent reflectance values and then different service based renderings for band combinations and indices are applied.
Name: LandsatGLS/MS
Description: Multispectral Landsat GLS image service created from the Global Land Survey (GLS) data from epochs 1975, 1990, 2000, 2005 and 2010. GLS datasets are created by the United States Geological Survey (USGS) and the National Aeronautics and Space Administration (NASA), using Landsat images. This service includes imagery from Landsat 4, Landsat 5 TM and Landsat 7 ETM, at 30 meter resolution and Landsat MSS at 60 meter resolution. It can be used for mapping and change detection of agriculture, soils, vegetation health, water-land features and boundary studies. Using on-the-fly processing, the raw DN values are transformed to scaled (0 - 10000) apparent reflectance values and then different service based renderings for band combinations and indices are applied.
Single Fused Map Cache: false
Extent:
XMin: -2.00375070672E7
YMin: -8572530.6034
XMax: 2.0037507842788246E7
YMax: 1.68764993966E7
Spatial Reference: 102100
(3857)
LatestVCSWkid(0)
Initial Extent:
XMin: -2.00375070672E7
YMin: -8572530.6034
XMax: 2.0037507842788246E7
YMax: 1.68764993966E7
Spatial Reference: 102100
(3857)
LatestVCSWkid(0)
Full Extent:
XMin: -2.00375070672E7
YMin: -8572530.6034
XMax: 2.0037507842788246E7
YMax: 1.68764993966E7
Spatial Reference: 102100
(3857)
LatestVCSWkid(0)
Time Info:
Start Time Field: AcquisitionDate
End Time Field: AcquisitionDate
Time Extent:
[1972/07/25 00:00:00 UTC, 2012/01/30 00:00:00 UTC]
Time Reference:
N/A
Pixel Size X: 29.99999618963752
Pixel Size Y: 30.0
Band Count: 6
Pixel Type: S16
RasterFunction Infos: {"rasterFunctionInfos": [
{
"name": "Agriculture with DRA",
"description": "Bands shortwave IR-1, near-IR, blue (5, 4, 1 ) with dynamic range adjustment applied on apparent reflectance. Vigorous veg. is bright green, stressed veg. dull green and bare areas as brown.",
"help": ""
},
{
"name": "Color Infrared with DRA",
"description": "Bands near-IR, red, green (4 , 3, 2) with dynamic range adjustment applied on apparent reflectance. Healthy vegetation is bright red while stressed vegetation is dull red.",
"help": ""
},
{
"name": "Geology with DRA",
"description": "Bands shortwave IR-2, red, blue (6, 3, 1) with dynamic range adjustment applied on apparent reflectance. Vigorous veg. is bright green, stressed veg. dull green and bare areas as brown.",
"help": ""
},
{
"name": "Natural Color with DRA",
"description": "Natural Color bands red, green, blue ( 3, 2, 1) displayed with dynamic range adjustment applied on apparent reflectance.",
"help": ""
},
{
"name": "Short-wave Infrared with DRA",
"description": "Bands shortwave-IR2, near-IR, red (6, 4, 3) with dynamic range adjustment applied on apparent reflectance.",
"help": ""
},
{
"name": "Agriculture",
"description": "Bands shortwave IR-1, near-IR, blue (5, 4, 1) with fixed stretched applied on apparent reflectance. Vigorous vegetation is bright green, stressed vegetation dull green and bare areas as brown.",
"help": ""
},
{
"name": "Color Infrared",
"description": "Bands near-infrared, red, green (4 , 3, 2) with fixed stretch applied on apparent reflectance. Healthy vegetation is bright red while stressed vegetation is dull red.",
"help": ""
},
{
"name": "Geology",
"description": "Bands shortwave IR-2, near-IR, blue (6, 3, 1) with fixed stretched applied on apparent reflectance. Vigorous vegetation is bright green, stressed vegetation dull green and bare areas as brown.",
"help": ""
},
{
"name": "Natural Color",
"description": "Natural Color bands red, green, blue(3, 2, 1) displayed with fixed stretch applied on apparent reflectance.",
"help": ""
},
{
"name": "Short-wave Infrared",
"description": "Bands shortwave-IR2, near-IR, red (6, 4, 3) with fixed stretched applied on apparent reflectance.",
"help": ""
},
{
"name": "NDVI Colorized",
"description": "Normalized difference vegetation index (NDVI) with color map. Dark green is thick vigorous vegetation and brown represents sparse vegetation.",
"help": ""
},
{
"name": "Normalized Difference Moisture Index Colorized",
"description": "Normalized Difference Moisture Index with color map. Wetlands and moist areas are blues, and dry areas in deep yellow and brown.",
"help": ""
},
{
"name": "NDVI Raw",
"description": "Normalized difference vegetation index (NDVI) computed as (b4 - b3) / (b4 + b3) on apparent reflectance",
"help": ""
},
{
"name": "NBR Raw",
"description": "Normalized Burn Ratio (BNBR) computed as (b4 - b6) / (b4 + b6) on apparent reflectance",
"help": ""
},
{
"name": "None",
"description": "A No-Op Function.",
"help": ""
}
]}
Mensuration Capabilities: Basic
Inspection Capabilities:
Has Histograms: false
Has Colormap: false
Has Multi Dimensions : false
Rendering Rule:
Min Scale: 0
Max Scale: 0
Copyright Text: Source : Esri, USGS, NASA
Service Data Type: esriImageServiceDataTypeGeneric
Min Values: 0, 0, 0, 0, 0, 0
Max Values: 10000, 10000, 10000, 10000, 10000, 10000
Mean Values: 3500, 3500, 3500, 3500, 3500, 3500
Standard Deviation Values: 1250, 1250, 1250, 1250, 1250, 1250
Object ID Field: OBJECTID
Fields:
-
OBJECTID
(
type: esriFieldTypeOID, alias: OBJECTID
)
-
Name
(
type: esriFieldTypeString, alias: Name, length: 200
)
-
MinPS
(
type: esriFieldTypeDouble, alias: MinPS
)
-
MaxPS
(
type: esriFieldTypeDouble, alias: MaxPS
)
-
LowPS
(
type: esriFieldTypeDouble, alias: LowPS
)
-
HighPS
(
type: esriFieldTypeDouble, alias: HighPS
)
-
Category
(
type: esriFieldTypeInteger, alias: Category
, Coded Values:
[0: Unknown]
, [1: Primary]
, [2: Overview]
, ...6 more...
)
-
GroupName
(
type: esriFieldTypeString, alias: GroupName, length: 100
)
-
ProductName
(
type: esriFieldTypeString, alias: ProductName, length: 100
)
-
CenterX
(
type: esriFieldTypeDouble, alias: CenterX
)
-
CenterY
(
type: esriFieldTypeDouble, alias: CenterY
)
-
WRS_Path
(
type: esriFieldTypeInteger, alias: WRS_Path
)
-
WRS_Row
(
type: esriFieldTypeInteger, alias: WRS_Row
)
-
Best
(
type: esriFieldTypeInteger, alias: Best
)
-
AcquisitionDate
(
type: esriFieldTypeDate, alias: AcquisitionDate, length: 8
)
-
DateUpdated
(
type: esriFieldTypeDate, alias: DateUpdated, length: 8
)
-
SunAzimuth
(
type: esriFieldTypeDouble, alias: SunAzimuth
)
-
SunElevation
(
type: esriFieldTypeDouble, alias: SunElevation
)
-
CloudCover
(
type: esriFieldTypeDouble, alias: CloudCover
)
-
PR
(
type: esriFieldTypeInteger, alias: PR
)
-
Latest
(
type: esriFieldTypeInteger, alias: Latest
)
-
DayOfYear
(
type: esriFieldTypeInteger, alias: DayOfYear
)
-
Month
(
type: esriFieldTypeSmallInteger, alias: Month
)
-
SensorName
(
type: esriFieldTypeString, alias: SensorName, length: 30
)
-
dataset_id
(
type: esriFieldTypeString, alias: dataset_id, length: 50
)
-
Shape
(
type: esriFieldTypeGeometry, alias: Shape
)
Default Mosaic Method: ByAttribute
Allowed Mosaic Methods: ByAttribute,Seamline,NorthWest,Center,LockRaster,Nadir,None
SortField: BEST
SortValue: 0
Mosaic Operator: First
Default Compression Quality: 85
Default Resampling Method: Bilinear
Max Record Count: 1000
Max Image Height: 4000
Max Image Width: 4000
Max Download Image Count: 20
Max Mosaic Image Count: 20
Allow Raster Function: true
Allow Copy: false
Allow Analysis: true
Allow Compute TiePoints: false
Supports Statistics: true
Supports Advanced Queries: true
Use StandardizedQueries: true
Raster Type Infos:
Name: Raster Dataset
Description: Supports all ArcGIS Raster Datasets
Help:
Has Raster Attribute Table: false
Edit Fields Info: null
Ownership Based AccessControl For Rasters: null
Child Resources:
Info
Statistics
Key Properties
Legend
Raster Function Infos
Supported Operations:
Export Image
Query
Identify
Measure
Compute Histograms
Compute Statistics Histograms
Get Samples
Compute Class Statistics
Query GPS Info
Find Images
Image to Map
Map to Image
Measure from Image
Image to Map Multiray
Query Boundary
Compute Pixel Location
Compute Angles
Validate
Project